BEGIN:VCALENDAR
VERSION:2.0
PRODID:-//Varuna Sentinels BV//Posidonia 2026//EN
CALSCALE:GREGORIAN
METHOD:PUBLISH
BEGIN:VEVENT
UID:posidonia-2026@varuna-sentinels.com
DTSTAMP:20260424T000000Z
DTSTART;VALUE=DATE:20260601
DTEND;VALUE=DATE:20260606
SUMMARY:Posidonia 2026 — Varuna Sentinels BV
LOCATION:Metropolitan Expo, Athens, Greece
DESCRIPTION:Meet Varuna Sentinels BV at Posidonia 2026. Demos on IHM Maintenance, ESG/CSRD reporting, EU ETS, FuelEU Maritime, CII optimisation, VSMPS marine procurement, and LCA. Book a slot: https://www.varuna-sentinels.com/posidonia-2026.html
URL:https://www.varuna-sentinels.com/posidonia-2026.html
STATUS:CONFIRMED
TRANSP:OPAQUE
CATEGORIES:Maritime,Conference,Exhibition
END:VEVENT
END:VCALENDAR
